BEGIN:VCALENDAR
VERSION:2.0
PRODID:-//Whangaparāoa Scout Group - ECPv6.15.20//NONSGML v1.0//EN
CALSCALE:GREGORIAN
METHOD:PUBLISH
X-ORIGINAL-URL:https://whangaparaoa-scouts.nz
X-WR-CALDESC:Events for Whangaparāoa Scout Group
REFRESH-INTERVAL;VALUE=DURATION:PT1H
X-Robots-Tag:noindex
X-PUBLISHED-TTL:PT1H
BEGIN:VTIMEZONE
TZID:Pacific/Auckland
BEGIN:STANDARD
TZOFFSETFROM:+1300
TZOFFSETTO:+1200
TZNAME:NZST
DTSTART:20240406T140000
END:STANDARD
BEGIN:DAYLIGHT
TZOFFSETFROM:+1200
TZOFFSETTO:+1300
TZNAME:NZDT
DTSTART:20240928T140000
END:DAYLIGHT
BEGIN:STANDARD
TZOFFSETFROM:+1300
TZOFFSETTO:+1200
TZNAME:NZST
DTSTART:20250405T140000
END:STANDARD
BEGIN:DAYLIGHT
TZOFFSETFROM:+1200
TZOFFSETTO:+1300
TZNAME:NZDT
DTSTART:20250927T140000
END:DAYLIGHT
BEGIN:STANDARD
TZOFFSETFROM:+1300
TZOFFSETTO:+1200
TZNAME:NZST
DTSTART:20260404T140000
END:STANDARD
BEGIN:DAYLIGHT
TZOFFSETFROM:+1200
TZOFFSETTO:+1300
TZNAME:NZDT
DTSTART:20260926T140000
END:DAYLIGHT
END:VTIMEZONE
BEGIN:VEVENT
DTSTART;TZID=Pacific/Auckland:20251007T183000
DTEND;TZID=Pacific/Auckland:20251007T200000
DTSTAMP:20260423T232054
CREATED:20251003T192716Z
LAST-MODIFIED:20251003T192716Z
UID:960-1759861800-1759867200@whangaparaoa-scouts.nz
SUMMARY:Cubs Term 4 Week 1 - Bottle Rockets
DESCRIPTION:Bring a 1.5 or 2.25 litre soda bottle (empty and cleaned)\, all other materials will be provided.
URL:https://whangaparaoa-scouts.nz/event/c071025/
LOCATION:Whangaparaoa Scout Den\, 144 Stanmore Bay Road\, Whangaparaoa\, New Zealand
CATEGORIES:Cubs 2025 Term 4
ATTACH;FMTTYPE=image/jpeg:https://whangaparaoa-scouts.nz/wp-content/uploads/ws-web-evt-103-1.jpg
END:VEVENT
BEGIN:VEVENT
DTSTART;TZID=Pacific/Auckland:20251014T183000
DTEND;TZID=Pacific/Auckland:20251014T200000
DTSTAMP:20260423T232054
CREATED:20251003T201526Z
LAST-MODIFIED:20251003T201526Z
UID:965-1760466600-1760472000@whangaparaoa-scouts.nz
SUMMARY:Cubs Term 4 Week 2 - Treasure Quest
DESCRIPTION:
URL:https://whangaparaoa-scouts.nz/event/c141025/
LOCATION:Whangaparaoa Scout Den\, 144 Stanmore Bay Road\, Whangaparaoa\, New Zealand
CATEGORIES:Cubs 2025 Term 4
ATTACH;FMTTYPE=image/jpeg:https://whangaparaoa-scouts.nz/wp-content/uploads/ws-web-evt-069.jpg
END:VEVENT
BEGIN:VEVENT
DTSTART;TZID=Pacific/Auckland:20251021T180000
DTEND;TZID=Pacific/Auckland:20251021T193000
DTSTAMP:20260423T232054
CREATED:20251003T202636Z
LAST-MODIFIED:20251003T202828Z
UID:967-1761069600-1761075000@whangaparaoa-scouts.nz
SUMMARY:Cubs Term 4 Week 3 - Blast-off!
DESCRIPTION:
URL:https://whangaparaoa-scouts.nz/event/c211025/
LOCATION:Whangaparaoa Scout Den\, 144 Stanmore Bay Road\, Whangaparaoa\, New Zealand
CATEGORIES:Cubs 2025 Term 4
ATTACH;FMTTYPE=image/jpeg:https://whangaparaoa-scouts.nz/wp-content/uploads/ws-web-evt-105.jpg
END:VEVENT
BEGIN:VEVENT
DTSTART;TZID=Pacific/Auckland:20251028T183000
DTEND;TZID=Pacific/Auckland:20251028T200000
DTSTAMP:20260423T232054
CREATED:20251003T203342Z
LAST-MODIFIED:20251003T222650Z
UID:973-1761676200-1761681600@whangaparaoa-scouts.nz
SUMMARY:Cubs Term 4 Week 4 - Bike Maintenance
DESCRIPTION:
URL:https://whangaparaoa-scouts.nz/event/c281025/
LOCATION:Whangaparaoa Scout Den\, 144 Stanmore Bay Road\, Whangaparaoa\, New Zealand
CATEGORIES:Cubs 2025 Term 4
ATTACH;FMTTYPE=image/jpeg:https://whangaparaoa-scouts.nz/wp-content/uploads/ws-web-evt-106.jpg
END:VEVENT
END:VCALENDAR