BEGIN:VCALENDAR
VERSION:2.0
PRODID:-//Whangaparāoa Scout Group - ECPv6.15.20//NONSGML v1.0//EN
CALSCALE:GREGORIAN
METHOD:PUBLISH
X-ORIGINAL-URL:https://whangaparaoa-scouts.nz
X-WR-CALDESC:Events for Whangaparāoa Scout Group
REFRESH-INTERVAL;VALUE=DURATION:PT1H
X-Robots-Tag:noindex
X-PUBLISHED-TTL:PT1H
BEGIN:VTIMEZONE
TZID:Pacific/Auckland
BEGIN:STANDARD
TZOFFSETFROM:+1300
TZOFFSETTO:+1200
TZNAME:NZST
DTSTART:20220402T140000
END:STANDARD
BEGIN:DAYLIGHT
TZOFFSETFROM:+1200
TZOFFSETTO:+1300
TZNAME:NZDT
DTSTART:20220924T140000
END:DAYLIGHT
BEGIN:STANDARD
TZOFFSETFROM:+1300
TZOFFSETTO:+1200
TZNAME:NZST
DTSTART:20230401T140000
END:STANDARD
BEGIN:DAYLIGHT
TZOFFSETFROM:+1200
TZOFFSETTO:+1300
TZNAME:NZDT
DTSTART:20230923T140000
END:DAYLIGHT
BEGIN:STANDARD
TZOFFSETFROM:+1300
TZOFFSETTO:+1200
TZNAME:NZST
DTSTART:20240406T140000
END:STANDARD
BEGIN:DAYLIGHT
TZOFFSETFROM:+1200
TZOFFSETTO:+1300
TZNAME:NZDT
DTSTART:20240928T140000
END:DAYLIGHT
END:VTIMEZONE
BEGIN:VEVENT
DTSTART;TZID=Pacific/Auckland:20231212T184500
DTEND;TZID=Pacific/Auckland:20231212T201500
DTSTAMP:20260425T075945
CREATED:20231026T002729Z
LAST-MODIFIED:20231026T002750Z
UID:323-1702406700-1702412100@whangaparaoa-scouts.nz
SUMMARY:Cubs Term 4 Week 10 - Kayaking
DESCRIPTION:
URL:https://whangaparaoa-scouts.nz/event/c121223/
LOCATION:Whangaparaoa Scout Den\, 144 Stanmore Bay Road\, Whangaparaoa\, New Zealand
CATEGORIES:Cubs
ATTACH;FMTTYPE=image/jpeg:https://whangaparaoa-scouts.nz/wp-content/uploads/ws-web-evt-021.jpg
END:VEVENT
BEGIN:VEVENT
DTSTART;TZID=Pacific/Auckland:20231205T184500
DTEND;TZID=Pacific/Auckland:20231205T201500
DTSTAMP:20260425T075945
CREATED:20231026T001914Z
LAST-MODIFIED:20231026T002300Z
UID:319-1701801900-1701807300@whangaparaoa-scouts.nz
SUMMARY:Cubs Term 4 Week 9 - Water Games
DESCRIPTION:
URL:https://whangaparaoa-scouts.nz/event/c051223/
LOCATION:Whangaparaoa Scout Den\, 144 Stanmore Bay Road\, Whangaparaoa\, New Zealand
CATEGORIES:Cubs
ATTACH;FMTTYPE=image/jpeg:https://whangaparaoa-scouts.nz/wp-content/uploads/ws-web-evt-020.jpg
END:VEVENT
BEGIN:VEVENT
DTSTART;TZID=Pacific/Auckland:20231128T184500
DTEND;TZID=Pacific/Auckland:20231128T201500
DTSTAMP:20260425T075945
CREATED:20231026T001506Z
LAST-MODIFIED:20231026T001506Z
UID:316-1701197100-1701202500@whangaparaoa-scouts.nz
SUMMARY:Cubs Term 4 Week 8 – Fishing
DESCRIPTION:
URL:https://whangaparaoa-scouts.nz/event/c281123/
CATEGORIES:Cubs
ATTACH;FMTTYPE=image/jpeg:https://whangaparaoa-scouts.nz/wp-content/uploads/ws-web-evt-018.jpg
END:VEVENT
BEGIN:VEVENT
DTSTART;TZID=Pacific/Auckland:20231121T184500
DTEND;TZID=Pacific/Auckland:20231121T201500
DTSTAMP:20260425T075945
CREATED:20231119T102357Z
LAST-MODIFIED:20231119T102357Z
UID:371-1700592300-1700597700@whangaparaoa-scouts.nz
SUMMARY:Cubs Term 4 Week 7
DESCRIPTION:
URL:https://whangaparaoa-scouts.nz/event/c211123-2/
LOCATION:Whangaparaoa Scout Den\, 144 Stanmore Bay Road\, Whangaparaoa\, New Zealand
CATEGORIES:Cubs,Scouts
ATTACH;FMTTYPE=image/jpeg:https://whangaparaoa-scouts.nz/wp-content/uploads/ws-web-evt-024-1.jpg
END:VEVENT
BEGIN:VEVENT
DTSTART;TZID=Pacific/Auckland:20231114T184500
DTEND;TZID=Pacific/Auckland:20231114T201500
DTSTAMP:20260425T075945
CREATED:20231025T232109Z
LAST-MODIFIED:20231118T193504Z
UID:312-1699987500-1699992900@whangaparaoa-scouts.nz
SUMMARY:Cubs Term 4 Week 7 - Fire Station Visit
DESCRIPTION:
URL:https://whangaparaoa-scouts.nz/event/c211123/
LOCATION:Silverdale Fire Station\, 147 Hibiscus Coast Highway\, Red Beach\, Whangaparaoa\, 0932\, New Zealand
CATEGORIES:Cubs
ATTACH;FMTTYPE=image/jpeg:https://whangaparaoa-scouts.nz/wp-content/uploads/ws-web-evt-017.jpg
END:VEVENT
BEGIN:VEVENT
DTSTART;TZID=Pacific/Auckland:20231107T184500
DTEND;TZID=Pacific/Auckland:20231107T201500
DTSTAMP:20260425T075945
CREATED:20231015T001006Z
LAST-MODIFIED:20231118T194252Z
UID:252-1699382700-1699388100@whangaparaoa-scouts.nz
SUMMARY:Cubs Term 4 Week 5 - Treasure Hunt Trail
DESCRIPTION:
URL:https://whangaparaoa-scouts.nz/event/c241023/
LOCATION:Whangaparaoa Scout Den\, 144 Stanmore Bay Road\, Whangaparaoa\, New Zealand
CATEGORIES:Cubs
ATTACH;FMTTYPE=image/jpeg:https://whangaparaoa-scouts.nz/wp-content/uploads/ws-web-evt-013.jpg
END:VEVENT
BEGIN:VEVENT
DTSTART;TZID=Pacific/Auckland:20231024T184500
DTEND;TZID=Pacific/Auckland:20231024T201500
DTSTAMP:20260425T075945
CREATED:20231022T113606Z
LAST-MODIFIED:20231118T194219Z
UID:281-1698173100-1698178500@whangaparaoa-scouts.nz
SUMMARY:Cubs Term 4 Week 3 - Indoor Cooking
DESCRIPTION:All cooking ingredients will be provided.
URL:https://whangaparaoa-scouts.nz/event/c311023/
LOCATION:Whangaparaoa Scout Den\, 144 Stanmore Bay Road\, Whangaparaoa\, New Zealand
CATEGORIES:Cubs
ATTACH;FMTTYPE=image/jpeg:https://whangaparaoa-scouts.nz/wp-content/uploads/ws-web-evt-012.jpg
END:VEVENT
BEGIN:VEVENT
DTSTART;TZID=Pacific/Auckland:20231017T184500
DTEND;TZID=Pacific/Auckland:20231017T201500
DTSTAMP:20260425T075945
CREATED:20231014T223256Z
LAST-MODIFIED:20231022T211733Z
UID:244-1697568300-1697573700@whangaparaoa-scouts.nz
SUMMARY:Cubs Term 4 Week 2 - Navigation
DESCRIPTION:
URL:https://whangaparaoa-scouts.nz/event/c171023/
LOCATION:Whangaparaoa Scout Den\, 144 Stanmore Bay Road\, Whangaparaoa\, New Zealand
CATEGORIES:Cubs
ATTACH;FMTTYPE=image/jpeg:https://whangaparaoa-scouts.nz/wp-content/uploads/ws-web-evt-011.jpg
END:VEVENT
BEGIN:VEVENT
DTSTART;TZID=Pacific/Auckland:20231010T184500
DTEND;TZID=Pacific/Auckland:20231010T201500
DTSTAMP:20260425T075945
CREATED:20231014T091254Z
LAST-MODIFIED:20231022T224817Z
UID:240-1696963500-1696968900@whangaparaoa-scouts.nz
SUMMARY:Cubs Term 4 Week 1 - Flying Planes
DESCRIPTION:
URL:https://whangaparaoa-scouts.nz/event/c101023/
LOCATION:Whangaparaoa Scout Den\, 144 Stanmore Bay Road\, Whangaparaoa\, New Zealand
CATEGORIES:Cubs
ATTACH;FMTTYPE=image/jpeg:https://whangaparaoa-scouts.nz/wp-content/uploads/ws-web-evt-010.jpg
END:VEVENT
END:VCALENDAR