BEGIN:VCALENDAR
VERSION:2.0
PRODID:-//Whangaparāoa Scout Group - ECPv6.15.20//NONSGML v1.0//EN
CALSCALE:GREGORIAN
METHOD:PUBLISH
X-WR-CALNAME:Whangaparāoa Scout Group
X-ORIGINAL-URL:https://whangaparaoa-scouts.nz
X-WR-CALDESC:Events for Whangaparāoa Scout Group
REFRESH-INTERVAL;VALUE=DURATION:PT1H
X-Robots-Tag:noindex
X-PUBLISHED-TTL:PT1H
BEGIN:VTIMEZONE
TZID:Pacific/Auckland
BEGIN:STANDARD
TZOFFSETFROM:+1300
TZOFFSETTO:+1200
TZNAME:NZST
DTSTART:20230401T140000
END:STANDARD
BEGIN:DAYLIGHT
TZOFFSETFROM:+1200
TZOFFSETTO:+1300
TZNAME:NZDT
DTSTART:20230923T140000
END:DAYLIGHT
BEGIN:STANDARD
TZOFFSETFROM:+1300
TZOFFSETTO:+1200
TZNAME:NZST
DTSTART:20240406T140000
END:STANDARD
BEGIN:DAYLIGHT
TZOFFSETFROM:+1200
TZOFFSETTO:+1300
TZNAME:NZDT
DTSTART:20240928T140000
END:DAYLIGHT
BEGIN:STANDARD
TZOFFSETFROM:+1300
TZOFFSETTO:+1200
TZNAME:NZST
DTSTART:20250405T140000
END:STANDARD
BEGIN:DAYLIGHT
TZOFFSETFROM:+1200
TZOFFSETTO:+1300
TZNAME:NZDT
DTSTART:20250927T140000
END:DAYLIGHT
END:VTIMEZONE
BEGIN:VEVENT
DTSTART;TZID=Pacific/Auckland:20240806T170000
DTEND;TZID=Pacific/Auckland:20240806T180000
DTSTAMP:20260424T160811
CREATED:20240707T085751Z
LAST-MODIFIED:20240708T095109Z
UID:840-1722963600-1722967200@whangaparaoa-scouts.nz
SUMMARY:Keas Term 3 Week 3 - Twig Rafts
DESCRIPTION:
URL:https://whangaparaoa-scouts.nz/event/k060824/
LOCATION:Whangaparaoa Scout Den\, 144 Stanmore Bay Road\, Whangaparaoa\, New Zealand
CATEGORIES:Keas 2024 Term 3
ATTACH;FMTTYPE=image/jpeg:https://whangaparaoa-scouts.nz/wp-content/uploads/ws-web-evt-076.jpg
END:VEVENT
BEGIN:VEVENT
DTSTART;TZID=Pacific/Auckland:20240813T170000
DTEND;TZID=Pacific/Auckland:20240813T180000
DTSTAMP:20260424T160811
CREATED:20240707T090032Z
LAST-MODIFIED:20240708T094253Z
UID:842-1723568400-1723572000@whangaparaoa-scouts.nz
SUMMARY:Keas Term 3 Week 4 - Bird Feeders
DESCRIPTION:
URL:https://whangaparaoa-scouts.nz/event/k130824/
LOCATION:Whangaparaoa Scout Den\, 144 Stanmore Bay Road\, Whangaparaoa\, New Zealand
CATEGORIES:Keas 2024 Term 3
ATTACH;FMTTYPE=image/jpeg:https://whangaparaoa-scouts.nz/wp-content/uploads/ws-web-evt-073.jpg
END:VEVENT
BEGIN:VEVENT
DTSTART;TZID=Pacific/Auckland:20240820T170000
DTEND;TZID=Pacific/Auckland:20240820T180000
DTSTAMP:20260424T160811
CREATED:20240708T060843Z
LAST-MODIFIED:20240708T071912Z
UID:846-1724173200-1724176800@whangaparaoa-scouts.nz
SUMMARY:Keas Term 3 Week 5 – Nature Hike
DESCRIPTION:
URL:https://whangaparaoa-scouts.nz/event/k200824/
LOCATION:Alice Eaves Scenic Reserve\, 40-50 Hillcrest Road\, Orewa\, Auckland\, 0931\, New Zealand
CATEGORIES:Keas 2024 Term 3
ATTACH;FMTTYPE=image/jpeg:https://whangaparaoa-scouts.nz/wp-content/uploads/ws-web-evt-074.jpg
END:VEVENT
BEGIN:VEVENT
DTSTART;TZID=Pacific/Auckland:20240827T170000
DTEND;TZID=Pacific/Auckland:20240827T180000
DTSTAMP:20260424T160811
CREATED:20240708T072732Z
LAST-MODIFIED:20240708T072732Z
UID:851-1724778000-1724781600@whangaparaoa-scouts.nz
SUMMARY:Keas Term 3 Week 6 - Panting with Nature
DESCRIPTION:
URL:https://whangaparaoa-scouts.nz/event/k270824/
LOCATION:Whangaparaoa Scout Den\, 144 Stanmore Bay Road\, Whangaparaoa\, New Zealand
CATEGORIES:Keas 2024 Term 3
ATTACH;FMTTYPE=image/jpeg:https://whangaparaoa-scouts.nz/wp-content/uploads/ws-web-evt-077.jpg
END:VEVENT
END:VCALENDAR